BEGIN:VCALENDAR
VERSION:2.0
PRODID:-//MAJLIS PERUBATAN HOMEOPATHY MALAYSIA - ECPv4.9.5//NONSGML v1.0//EN
CALSCALE:GREGORIAN
METHOD:PUBLISH
X-WR-CALNAME:MAJLIS PERUBATAN HOMEOPATHY MALAYSIA
X-ORIGINAL-URL:http://mphm.com.my
X-WR-CALDESC:Events for MAJLIS PERUBATAN HOMEOPATHY MALAYSIA
BEGIN:VTIMEZONE
TZID:"UTC"
BEGIN:STANDARD
TZOFFSETFROM:+0000
TZOFFSETTO:+0000
TZNAME:UTC
DTSTART:20170101T000000
END:STANDARD
END:VTIMEZONE
BEGIN:VEVENT
DTSTART;TZID="UTC":20170503T083000
DTEND;TZID="UTC":20170503T083000
DTSTAMP:20260422T085907
CREATED:20170414T081128Z
LAST-MODIFIED:20170414T081128Z
UID:1640-1493800200-1493800200@mphm.com.my
SUMMARY:Taklimat Akta Perubatan Tradisional&Komlpementari 2016 (Akta 775)
DESCRIPTION:\n\n\nTaklimatAktaPerubatanTradisional&Komlpementari 2016 (Akta 775) \n\n\nNegeriKalantan\n\n\n(Ahli MPHM Kelantan)\n\n\n\nTaklimat Akta Perubatan Tradisional&Komlpementari 2016 (Akta 775)
URL:http://mphm.com.my/event/taklimat-akta-perubatan-tradisionalkomlpementari-2016-akta-775/
LOCATION:Dewan Misai Kucing Bangunan RTC Kelantan (FAMA-TEMAN) Kota Bharu Kelantan
END:VEVENT
END:VCALENDAR